BEGIN:VCALENDAR
VERSION:2.0
PRODID:-//wp-events-plugin.com//7.2.3.1//EN
TZID:Europe/Berlin
X-WR-TIMEZONE:Europe/Berlin
BEGIN:VEVENT
UID:37@historische-moenchmuehle.de
DTSTART;TZID=Europe/Berlin:20230706T180000
DTEND;TZID=Europe/Berlin:20230706T210000
DTSTAMP:20251114T150820Z
URL:https://historische-moenchmuehle.de/Veranstaltungen/tanzabend-linedanc
 er-moenchmuehle-2023-07-06/
SUMMARY:Tanzabend Linedancer Mönchmühle
DESCRIPTION:Die Linedancer Mönchmühle treffen sich jeden Donnerstagabend 
 ab 18:00 Uhr im Tanzsaal der Historischen Mönchmühle in Mühlenbeck. Die
  Mitglieder haben Spaß am Linedance\, gemeinsamen Feiern und Auftritten u
 nd kommen aus dem Raum Mühlenbeck\, Schildow\, Glienicke und Berlin. Der 
 Tanzabend beginnt im leichten Niveau und steigert sich dann in ein mittler
 es Niveau und schließlich in ein fortgeschrittenes Niveau. Der Schwerpunk
 t liegt auf Spaß und Freude\, und es wird kein Stress gemacht. Gäste\, n
 eue Mitstreiter und andere Begeisterte sind herzlich willkommen. Bitte Wec
 hselschuhe und Getränk mitbringen. Mehr Infos finden Sie auf der Website 
 der Linedancer:\n\nhttps://linedancer-moenchmuehle.weebly.com/
ATTACH;FMTTYPE=image/jpeg:https://historische-moenchmuehle.de/wp-content/u
 ploads/2023-Lincedancer-Tanzabend.jpg
CATEGORIES:Wöchentliche Kurse
LOCATION:Historische Mönchmühle | Saal\, Mönchmühlenallee 3\, Mühlenbe
 cker Land\, Brandenburg\, 16567\, Deutschland
X-APPLE-STRUCTURED-LOCATION;VALUE=URI;X-ADDRESS=Mönchmühlenallee 3\, Müh
 lenbecker Land\, Brandenburg\, 16567\, Deutschland;X-APPLE-RADIUS=100;X-TI
 TLE=Historische Mönchmühle | Saal:geo:0,0
END:VEVENT
BEGIN:VTIMEZONE
TZID:Europe/Berlin
X-LIC-LOCATION:Europe/Berlin
BEGIN:DAYLIGHT
DTSTART:20230326T030000
TZOFFSETFROM:+0100
TZOFFSETTO:+0200
TZNAME:CEST
END:DAYLIGHT
END:VTIMEZONE
END:VCALENDAR