BEGIN:VCALENDAR
VERSION:2.0
PRODID:-//wp-events-plugin.com//7.2.3.1//EN
TZID:Europe/Berlin
X-WR-TIMEZONE:Europe/Berlin
BEGIN:VEVENT
UID:377@historische-moenchmuehle.de
DTSTART;TZID=Europe/Berlin:20250622T160000
DTEND;TZID=Europe/Berlin:20250622T180000
DTSTAMP:20250621T090152Z
URL:https://historische-moenchmuehle.de/Veranstaltungen/sommerkonzert/
SUMMARY:Sommerkonzert
DESCRIPTION:In einer musikalischen Lesung erwecken wir die Stimmen der Kün
 stlerinnen zum Leben. Leidenschaftliche\, dramatische\, romantische\, verz
 weifelte\, humorvolle und satirische Lyrik wird von den Musikerinnen Waltr
 aut Elvers und Heidemarie Wiesner vorgetragen und mit Geige oder auch den 
 warmen Tönen der Bratsche und dem Klavier umspielt. Musik unter anderen v
 on Clara Schumann\, Fanny Hensel\, Nadja und Lilli Boulanger\, Amy Beach u
 nd Improvisationen der beiden Musikerinnen bilden sanfte Übergänge  ode
 r spiegelbildliche Wiederholungen.\n\n\nDer Eintritt ist frei - um Spenden
  wird gebeten.
ATTACH;FMTTYPE=image/jpeg:https://historische-moenchmuehle.de/wp-content/u
 ploads/1000203335.png
CATEGORIES:Konzerte
LOCATION:Historische Mönchmühle | Saal\, Mönchmühlenallee 3\, Mühlenbe
 cker Land\, Brandenburg\, 16567\, Deutschland
X-APPLE-STRUCTURED-LOCATION;VALUE=URI;X-ADDRESS=Mönchmühlenallee 3\, Müh
 lenbecker Land\, Brandenburg\, 16567\, Deutschland;X-APPLE-RADIUS=100;X-TI
 TLE=Historische Mönchmühle | Saal:geo:0,0
END:VEVENT
BEGIN:VTIMEZONE
TZID:Europe/Berlin
X-LIC-LOCATION:Europe/Berlin
BEGIN:DAYLIGHT
DTSTART:20250330T030000
TZOFFSETFROM:+0100
TZOFFSETTO:+0200
TZNAME:CEST
END:DAYLIGHT
END:VTIMEZONE
END:VCALENDAR